BEGIN:VCALENDAR
VERSION:2.0
PRODID:-//SyracuseArts.net
METHOD:PUBLISH
BEGIN:VEVENT
UID:20260424110422-syracusearts.net
DTSTAMP:20260424T110422Z
DTSTART:20260426T180000Z
DTEND:20260426T200000Z
SUMMARY:Foolproof\nSyracuse University Drama Department\n
LOCATION:Clark Theater, Syracuse Stage, 820 E. Genesee St., Syracuse
DESCRIPTION:For complete information, visit http://syracusearts.net/calendar/event.cfm?PerfID=156028
URL;VALUE=URI:http://syracusearts.net/calendar/event.cfm?PerfID=156028
END:VEVENT
END:VCALENDAR