BEGIN:VCALENDAR
VERSION:2.0
PRODID:-//SyracuseArts.net
METHOD:PUBLISH
BEGIN:VEVENT
UID:20260424110443-syracusearts.net
DTSTAMP:20260424T110443Z
DTSTART:20260607T180000Z
DTEND:20260607T200000Z
SUMMARY:Alanis Morissette's Jagged Little Pill: The Musical\nRedhouse\n
LOCATION:Redhouse at City Center, 400 S. Salina St., Syracuse
DESCRIPTION:For complete information, visit http://syracusearts.net/calendar/event.cfm?PerfID=153485
URL;VALUE=URI:http://syracusearts.net/calendar/event.cfm?PerfID=153485
END:VEVENT
END:VCALENDAR