BEGIN:VCALENDAR
VERSION:2.0
PRODID:-//SyracuseArts.net
METHOD:PUBLISH
BEGIN:VEVENT
UID:20260424110412-syracusearts.net
DTSTAMP:20260424T110412Z
DTSTART:20260607T000000Z
DTEND:20260607T020000Z
SUMMARY:Alanis Morissette's Jagged Little Pill: The Musical\nRedhouse\n
LOCATION:Redhouse at City Center, 400 S. Salina St., Syracuse
DESCRIPTION:For complete information, visit http://syracusearts.net/calendar/event.cfm?PerfID=153484
URL;VALUE=URI:http://syracusearts.net/calendar/event.cfm?PerfID=153484
END:VEVENT
END:VCALENDAR